BEGIN:VCALENDAR
VERSION:2.0
PRODID:-//ChamberMaster//Event Calendar 2.0//EN
METHOD:PUBLISH
X-PUBLISHED-TTL:P3D
REFRESH-INTERVAL:P3D
CALSCALE:GREGORIAN
BEGIN:VEVENT
DTSTART:20241002T113000Z
DTEND:20241002T133000Z
X-MICROSOFT-CDO-ALLDAYEVENT:FALSE
SUMMARY:Wake Up Windsor Essex\; Express Breakfast Networking - October 2024\, Presented by Pinchin
DESCRIPTION:Wake Up Windsor-Essex!\n\nTime for Express Breakfast Networking\n\n\n\nGet noticed\, get leads! Enjoy breakfast\, followed by 90 seconds to market your services or product to a captive audience!\n\nNeed more exposure? Chamber members can purchase additional speaking time (limited availability).\n\n\n\nPre-registration is mandatory.  Space is very limited.\n\n\n\n\nPlease note due to time restraints there will be no ability for digital/PowerPoint/graphic presentations.
X-ALT-DESC;FMTTYPE=text/html:<h1 style="text-align: center\;"><span style="color:#8B4513\;"><font size="5"><b><span style="font-size:36px\;">Wake Up Windsor-Essex!</span></b></font></span><br />\n<span style="font-size:18px\;"><b style="font-size: x-large\;"><em><small>Time for Express Breakfast Networking</small></em></b></span></h1>\n\n<h1 style="font-size: 10pt\;"><br />\n<span style="font-size:14px\;"><span style="font-family:tahoma\;">Get noticed\, get leads! Enjoy breakfast\, followed by 90 seconds to market your services or product to a captive audience!</span></span></h1>\n\n<h1 style="font-size: 10pt\;"><span style="font-size:14px\;"><span style="font-family:tahoma\;"><strong>Need more exposure?</strong> Chamber members can purchase additional speaking time (limited availability).<br />\n<br />\nPre-registration is mandatory.&nbsp\; Space is very limited.</span></span></h1>\n<br />\n<br />\n<span style="font-size:14px\;"><span style="font-family:tahoma\;"><strong>Please note due to time restraints there will be no ability for digital/PowerPoint/graphic presentations.</strong></span></span>
LOCATION:Coll ge Bor al Windsor 7515 Forest Glade Dr. Windsor\, Ontario
UID:e.3505.1333
SEQUENCE:3
DTSTAMP:20260422T124912Z
URL:https://business.windsoressexchamber.org/events/details/wake-up-windsor-essex-express-breakfast-networking-october-2024-presented-by-pinchin-1333
END:VEVENT

END:VCALENDAR
