BEGIN:VCALENDAR
VERSION:2.0
PRODID:-//ChamberMaster//Event Calendar 2.0//EN
METHOD:PUBLISH
X-PUBLISHED-TTL:P3D
REFRESH-INTERVAL:P3D
CALSCALE:GREGORIAN
BEGIN:VEVENT
DTSTART:20230418T153000Z
DTEND:20230418T180000Z
X-MICROSOFT-CDO-ALLDAYEVENT:FALSE
SUMMARY:Mayor Drew Dilkens Capturing the Future - Windsors Economic Potential Presented by Enbridge
DESCRIPTION:Mayor Drew Dilkens "Capturing the Future: Windsor's Economic Potential"\n\n\nJoin us for lunch and a keynote address by Mayor Drew Dilkens as he speaks on Windsor's current economic picture and plans to chart a course for the city to take advantages of opportunities for growth in the region.\n\n\n\nPlated lunch:\n\n	Cucumber wrapped salad with spring greens\, grape tomatoes and radish julienne served with a balsamic reduction.\n	Chicken Provencal - Frenched chicken breast encrusted with herbs de provence and accompanied by whipped garlic potatoes\, roasted Mediterranean vegetables with roasted fig jus.\n	Traditional Cr me Br l e\n	Rolls and butter\n	Coffee & tea\n\nVegetarian and vegan options available upon request.\n\n\n\nTables of 8.
X-ALT-DESC;FMTTYPE=text/html:<h2 align="center" style="text-align:center\;"><span style="color:#365F91\;"><span style="font-family:calibri\,sans-serif\;"><span style="font-size:16.0pt\;">Mayor Drew Dilkens &quot\;Capturing the Future: Windsor&#39\;s Economic Potential&quot\;</span></span></span></h2>\n<br />\nJoin us for lunch and a keynote address by Mayor Drew Dilkens as he speaks on Windsor&#39\;s current economic picture and plans to chart a course for the city to take advantages of opportunities for growth in the region.<br />\n<br />\nPlated lunch:\n<ul>\n	<li>Cucumber wrapped salad with spring greens\,&nbsp\;grape tomatoes and radish julienne served with a balsamic reduction.</li>\n	<li>Chicken Provencal - Frenched chicken breast encrusted with herbs de provence and accompanied by whipped garlic potatoes\, roasted Mediterranean vegetables with roasted fig jus.</li>\n	<li>Traditional Cr&egrave\;me Br&ucirc\;l&eacute\;e</li>\n	<li>Rolls and butter</li>\n	<li>Coffee &amp\; tea</li>\n</ul>\nVegetarian and vegan options available upon request.<br />\n<br />\nTables of 8.
LOCATION:St. Clair Centre for the Arts - Skyline Ballroom
UID:e.3505.1273
SEQUENCE:3
DTSTAMP:20260422T192318Z
URL:https://business.windsoressexchamber.org/events/details/mayor-drew-dilkens-capturing-the-future-windsors-economic-potential-presented-by-enbridge-1273
END:VEVENT

END:VCALENDAR
