BEGIN:VCALENDAR
VERSION:2.0
PRODID:-//ChamberMaster//Event Calendar 2.0//EN
METHOD:PUBLISH
X-PUBLISHED-TTL:P3D
REFRESH-INTERVAL:P3D
CALSCALE:GREGORIAN
BEGIN:VEVENT
DTSTART:20241220T230000Z
DTEND:20241222T045500Z
X-MICROSOFT-CDO-ALLDAYEVENT:FALSE
SUMMARY:Corporate Holiday Party
DESCRIPTION:Join us for The Corporate Holiday Party of they Year! \n\nHosted by St. Clair College Centre for the Arts and the Windsor-Essex Regional Chamber of Commerce.\n\nCash Bar - Photo Booth - DJ\n\n4 Course Plated Meal
X-ALT-DESC;FMTTYPE=text/html:Join us for The Corporate Holiday Party of they Year!&nbsp\;<br />\nHosted by St. Clair College Centre for the Arts and the Windsor-Essex Regional Chamber of Commerce.<br />\nCash Bar - Photo Booth - DJ<br />\n4 Course Plated Meal
LOCATION:St Clair College Centre for the Arts Skyline Ballroom
UID:e.3505.1368
SEQUENCE:3
DTSTAMP:20260420T071432Z
URL:https://business.windsoressexchamber.org/events/details/corporate-holiday-party-1368
END:VEVENT

END:VCALENDAR
