BEGIN:VCALENDAR
VERSION:2.0
PRODID:-//ChamberMaster//Event Calendar 2.0//EN
METHOD:PUBLISH
X-PUBLISHED-TTL:P3D
REFRESH-INTERVAL:P3D
CALSCALE:GREGORIAN
BEGIN:VEVENT
DTSTART:20201110T180000Z
DTEND:20201110T190000Z
X-MICROSOFT-CDO-ALLDAYEVENT:FALSE
SUMMARY:Business Briefs Interactive Webinars - Throne Speech Review
DESCRIPTION:Presented by Windsor-Essex Regional Chamber of Commerce\n\n \n\nThe Windsor-Essex Regional Chamber will host an interactive webinar with leaders at the front lines of policy changes and best practices who can help navigate the impact of COVID-19 on our regional business community. \n\n\n\nHear from guests\; Minister Mary Ng\, Minister of Small Business\, Export Promotion & International Trade\, and Irek Kusmierczyk\, Member of Parliament for Windsor-Tecumseh and Parliamentary Secretary of Employment\, Workforce Development and Disability Inclusion\n\n\n\nOur guests will discuss the announcements made during the speech from the throne and how they will affect businesses in Windsor-Essex.\n\n\n\nModerated by Rakesh Naidu\, WERCC President & CEO \n\nFollowed by a Q&A Session\n\n\n\n\n\nThank you to Minister Ng and MP Kusmierczyk for taking the time to interact with our members and guests!\n\nPlease send your questions to info@windsoressexchamber.org
X-ALT-DESC;FMTTYPE=text/html:<div style="text-align: center\;"><span style="font-size:16px\;"><strong>Presented by Windsor-Essex Regional Chamber of Commerce</strong></span><br />\n&nbsp\;<br />\nThe Windsor-Essex Regional Chamber will host an interactive webinar&nbsp\;with leaders at the front lines of policy changes and best practices who can help navigate the impact of COVID-19 on our regional business community.&nbsp\;<br />\n<br />\n<strong>Hear from guests\; Minister Mary Ng\,&nbsp\;Minister of Small Business\, Export Promotion &amp\; International Trade\, and&nbsp\;Irek Kusmierczyk\, Member of Parliament for Windsor-Tecumseh and Parliamentary Secretary of Employment\, Workforce Development and Disability Inclusion</strong><br />\n<br />\nOur guests will discuss the announcements made during the speech from the throne and how they will affect businesses in Windsor-Essex.<br />\n<br />\n<strong>Moderated by Rakesh Naidu\, WERCC President &amp\; CEO&nbsp\;<br />\nFollowed by a Q&amp\;A Session</strong><br />\n<br />\n<br />\nThank you to Minister Ng and MP Kusmierczyk for taking the time to interact with our members and guests!<br />\nPlease send your questions to info@windsoressexchamber.org</div>\n
LOCATION:Registrants will be e-mailed a link to join the webinar 1-hour prior to start time.
UID:e.3505.1196
SEQUENCE:3
DTSTAMP:20260421T202337Z
URL:https://business.windsoressexchamber.org/events/details/business-briefs-interactive-webinars-throne-speech-review-1196
END:VEVENT

END:VCALENDAR
